BEGIN:VCALENDAR
VERSION:2.0
CALSCALE:GREGORIAN
PRODID:-//MyApp//Calendar 1.0//EN
BEGIN:VEVENT
METHOD:PUBLISH
UID:32175@regionalniportaly.cz
DTSTAMP:20260422T001319Z
DTSTART;VALUE=DATE:20231001
DTEND;VALUE=DATE:20231002
SUMMARY:BMW setkání a žehnání vozů 2023
DESCRIPTION:www.bmwsetkani.czNedělní vyvrcholení akce má ve vínku tři základní myšlenky: setkání lidí se zájem o BMW\, objevování nového (zámky\, příroda\, lidské vynálezy) a bezesporu největším aktem je bohoslužba slova a žehnání.BMW setkání je setkání dobrých lidí. Lidí\, kteří mají radost z jízdy a radost ze života.&nbsp\;Program:&nbsp\;11:00 - 13:00 Příjezd a parkování u Balonového zámku12:00 - 13:00 Oběd (pro zájemce) v Balonovém hotelu (cca 500 metrů)&nbsp\;Prohlídky na zámku11:15 Prohlídka balonového zámku - 1. skupina12:00 Prohlídka balonového zámku - 2. skupina12:45 Prohlídka balonového zámku - 3. skupina&nbsp\;15:00 Žehnání vozů vozů&nbsp\;&nbsp\;15:30 Opuštění vozů vzletové plochypo 16:00&nbsp\; Vzlet horkovzdušných balonů pro zájemce a diváky - lety objednávejte na telefonu 734 443 030 (cena letenky 4400 Kč).&nbsp\;&nbsp\;Kapacita akce omezena! Vstupenky na www.BMWsetkani.cz
LOCATION:Radešín
END:VEVENT
END:VCALENDAR