BEGIN:VCALENDAR
VERSION:2.0
CALSCALE:GREGORIAN
PRODID:-//MyApp//Calendar 1.0//EN
BEGIN:VEVENT
METHOD:PUBLISH
UID:33019@regionalniportaly.cz
DTSTAMP:20260421T180830Z
DTSTART;VALUE=DATE:20230520
DTEND;VALUE=DATE:20230521
SUMMARY:Glády v před fest\, vol. 10
DESCRIPTION:Glády v před fest je přátelský a pohodový festival PUNK\, Ska a Punk-rock kapel kapel konající se v super areálu v Mostištích u Velkého Meziříčí.Letošní 10. výročí festivalu naplní hudbou kapely: Dukla Vozovna\, Nežfaleš\, Volant\, Bermudskéj kvádr\, který zde pokřtí svoje nové CD\, P.U.M.\, Vysoké Napětí\, Švindl a Namrous Konspirace.Na návštěvníky bude čekat bohaté občerstvení\, stánek Bifé vafle z Vídně\, barber stánek Number One a tetovací stánek.\n \nAreál otevřen od 12:00 hod.\, hudební vystoupení od 15:00 hod.\n \nPředprodej: 400\,-  \nNa místě: 450\,-
LOCATION:Velké Meziříčí
END:VEVENT
END:VCALENDAR