BEGIN:VCALENDAR
VERSION:2.0
CALSCALE:GREGORIAN
PRODID:-//MyApp//Calendar 1.0//EN
BEGIN:VEVENT
METHOD:PUBLISH
UID:37553@regionalniportaly.cz
DTSTAMP:20260422T004136Z
DTSTART;VALUE=DATE:20231229
DTEND;VALUE=DATE:20231230
SUMMARY:Koncert Velký jako Meziříčí
DESCRIPTION:29. prosince 2023 se uskuteční Koncert Velký jako Meziříčí oblíbené kapely Lucy &amp\; HangOver z Vysočiny v Jupiter klubu ve Velkém Meziříčí.Kapela Lucy &amp\; HangOver vystupuje z komfortní zóny párty kapely a vstupuje do zcela nové éry s vlastní autorskou hudbou v oblasti pop &amp\; moderní country. Pomyslný přechod z lokálního zábavového tria na profesionální pětičlennou kapelu stvrdí koncertem Velkým jako Meziříčí.\n 
LOCATION:Velké Meziříčí
END:VEVENT
END:VCALENDAR