BEGIN:VCALENDAR
VERSION:2.0
CALSCALE:GREGORIAN
PRODID:-//MyApp//Calendar 1.0//EN
BEGIN:VEVENT
METHOD:PUBLISH
UID:40674@regionalniportaly.cz
DTSTAMP:20260421T164957Z
DTSTART;VALUE=DATE:20240316
DTEND;VALUE=DATE:20240317
SUMMARY:AUKCE uměleckých předmětů
DESCRIPTION:Aukční síň Harpagon \, zahajuje tuto sobotu aukce uměleckých předmětů\, obrazů a dalšího.  Aukce se konají každou sobotu a neděli v kinokavárně Savoy ve Velké Bíteši. Počet míst je omezen . Rezervace na emailu : projekt1@centrum.cz  a nebo na faceboku: https://www.facebook.com/robert.kotyz/
LOCATION:Velká Bíteš
END:VEVENT
END:VCALENDAR