BEGIN:VCALENDAR
VERSION:2.0
CALSCALE:GREGORIAN
PRODID:-//MyApp//Calendar 1.0//EN
BEGIN:VEVENT
METHOD:PUBLISH
UID:40777@regionalniportaly.cz
DTSTAMP:20260421T152429Z
DTSTART;VALUE=DATE:20241016
DTEND;VALUE=DATE:20241017
SUMMARY:Sirény na cestách | Velké Meziříčí
DESCRIPTION:Zábavná&nbsp\;talk-show ženské trojice hereček a zpěvaček Sandry Pogodové\, Jitky Asterové a Lindy Finkové míří do Velkého Meziříčí!&nbsp\;Sandra Pogodová - Jitka Asterová - Linda FinkováZcela nová zábavná talk show ženské trojice hereček a zpěvaček Sandry Pogodové\, Jitky Asterové a Lindy Finkové\, jejich neotřelý smysl pro humor a vzájemná chuť si ze sebe utahovat vás rozhodně pobaví.Pořad je plný šťavnatých vyprávění a historek ze zákulisí natáčení a divadelního světa.To vše prošpikováno šansony a písněmi z muzikálů tvoří dokonalý program\, na který budete dlouho vzpomínat s úsměvem na tváři.Po skončení pořadu následuje jako bonus autogramiáda
LOCATION:Velké Meziříčí
END:VEVENT
END:VCALENDAR