BEGIN:VCALENDAR
VERSION:2.0
CALSCALE:GREGORIAN
PRODID:-//MyApp//Calendar 1.0//EN
BEGIN:VEVENT
METHOD:PUBLISH
UID:41708@regionalniportaly.cz
DTSTAMP:20260421T211950Z
DTSTART;VALUE=DATE:20240513
DTEND;VALUE=DATE:20240514
SUMMARY:MILUJI TĚ\, TAK SE MĚJ ... divadelní komedie
DESCRIPTION:
LOCATION:Velká Bíteš
END:VEVENT
END:VCALENDAR