BEGIN:VCALENDAR
VERSION:2.0
CALSCALE:GREGORIAN
PRODID:-//MyApp//Calendar 1.0//EN
BEGIN:VEVENT
METHOD:PUBLISH
UID:42112@regionalniportaly.cz
DTSTAMP:20260422T003438Z
DTSTART;VALUE=DATE:20240426
DTEND;VALUE=DATE:20240427
SUMMARY:MIDI LIDI v Rock Depu
DESCRIPTION:Brněnská legendární pop elektronická taneční kapela uzavírá jednatřicetiletou historii koncertů ve velkomeziříčském Rock Depu. Přijďte si užít jedinečnou atmosféru klubu\, veselé a skočné Midi Lidi\, i valašskou dupačku Koňe a Prase na rozjezd. A na závěr náš fešák a rezident DJ Flyer se svým precizním electro - house setem. Taneční cvičky s sebou.\n \n19.00 Doors20.30 Koňe a Prase21.30 MIDI LIDI23.30 DJ Flyer
LOCATION:Velké Meziříčí
END:VEVENT
END:VCALENDAR