BEGIN:VCALENDAR
VERSION:2.0
CALSCALE:GREGORIAN
PRODID:-//MyApp//Calendar 1.0//EN
BEGIN:VEVENT
METHOD:PUBLISH
UID:42202@regionalniportaly.cz
DTSTAMP:20260422T005026Z
DTSTART;VALUE=DATE:20240518
DTEND;VALUE=DATE:20240519
SUMMARY:DJ Boris DISCO - Velká Bíteš
DESCRIPTION:Legendární a úspěšná akce DJ Boris&nbsp\;&nbsp\;znovu ve Velké Bíteši!Koná se v sobotu 18. května 2024 od 20:00 hod. v Kulturním domě Velká Bíteš&nbsp\;Po celou noc hity současné i minulé v originálních verzích\, které zaručeně znáte a které Vám jinde nezahrají&nbsp\;Hudba různých žánrů - DISCO\, POP\, ROCK\, ČESKÉ a SLOVENSKÉ\, OSMDESÁTKY\, DEVADESÁTKY\, OLDIES...Zajištěno bohaté občerstvení včetně točeného piva a míchaných drinků.Kvalitní zvuk a světla\, laser show.Na Vaši bezpečnost bude dohlížet profesionální security služba.Otevřeno od 20:00 hod.Minimální věkový limit pro vstup: 16 let
LOCATION:Velká Bíteš
END:VEVENT
END:VCALENDAR