BEGIN:VCALENDAR
VERSION:2.0
CALSCALE:GREGORIAN
PRODID:-//MyApp//Calendar 1.0//EN
BEGIN:VEVENT
METHOD:PUBLISH
UID:42662@regionalniportaly.cz
DTSTAMP:20260421T223831Z
DTSTART;VALUE=DATE:20240517
DTEND;VALUE=DATE:20240518
SUMMARY:Koncert: Manon meurt (křest desky) + Marjari (s kapelou)
DESCRIPTION:Česká kytarová kapela Manon meurt pokřtí v Nové synagoze ve Velkém Meziříčí v pátek 17. května 2024 své nové album.\nDo našeho města se vrací po pěti letech\, kdy zahrála v Luteránském Gymnáziu.V rámci večera vystoupí také hudebnice a zpěvačka Marjari s kapelou.Obě kapely vezou nový koncertní materiál v rámci společného jarního turné po českých a slovenských sálech.\nPro kapely je charakteristický originální kytarový zvuk a výrazný ženský hlas.Přijďte si užít atmosféru znovuoživené synagogy hudbou.\nLineup:\n18.00 Otevření synagogy\, občerstvené zajištěno20.30 Marjari21.30 Manon meurtPo skončení koncertu můžete pokračovat na afterparty do Rock Depa na místní kapely
LOCATION:Velké Meziříčí
END:VEVENT
END:VCALENDAR