BEGIN:VCALENDAR
VERSION:2.0
CALSCALE:GREGORIAN
PRODID:-//MyApp//Calendar 1.0//EN
BEGIN:VEVENT
METHOD:PUBLISH
UID:42945@regionalniportaly.cz
DTSTAMP:20260421T205911Z
DTSTART;VALUE=DATE:20240914
DTEND;VALUE=DATE:20240915
SUMMARY:Park Food Festival
DESCRIPTION:1. VELKOMEZIŘÍČSKÝ STREET FOOD FESTIVAL JE TADY!14.&amp\;15.9.2024 ZÁMECKÝ PARK VELKÉ MEZIŘÍČÍNa co se můžete těšit?- speciality street food kuchyní z celého světa /ARGENTINA\, ČESKO\, EGYPT\, FRANCIE\, GRUZIE\, JAPONSKO\, MEXIKO\, ŘECKO\, ŠPANĚLSKO\, THAJSKO\, USA\, VIETNAM/- bohatý doprovodný program /DIVADLO\, HUDBA\, SHOW\, SPORT/- zábava pro malé i velké návštěvníkyDĚTI DO 15 LET VSTUP ZDARMA!
LOCATION:Velké Meziříčí
END:VEVENT
END:VCALENDAR