BEGIN:VCALENDAR
VERSION:2.0
CALSCALE:GREGORIAN
PRODID:-//MyApp//Calendar 1.0//EN
BEGIN:VEVENT
METHOD:PUBLISH
UID:43991@regionalniportaly.cz
DTSTAMP:20260421T182406Z
DTSTART;VALUE=DATE:20240704
DTEND;VALUE=DATE:20240706
SUMMARY:Fajtfest Velké Meziříčí
DESCRIPTION:
LOCATION:Velké Meziříčí
END:VEVENT
END:VCALENDAR