BEGIN:VCALENDAR
VERSION:2.0
CALSCALE:GREGORIAN
PRODID:-//MyApp//Calendar 1.0//EN
BEGIN:VEVENT
METHOD:PUBLISH
UID:44016@regionalniportaly.cz
DTSTAMP:20260421T192611Z
DTSTART;VALUE=DATE:20241004
DTEND;VALUE=DATE:20241005
SUMMARY:Lucie Bílá - Recitál
DESCRIPTION:
LOCATION:Velké Meziříčí
END:VEVENT
END:VCALENDAR