BEGIN:VCALENDAR
VERSION:2.0
CALSCALE:GREGORIAN
PRODID:-//MyApp//Calendar 1.0//EN
BEGIN:VEVENT
METHOD:PUBLISH
UID:44021@regionalniportaly.cz
DTSTAMP:20260421T165043Z
DTSTART;VALUE=DATE:20241120
DTEND;VALUE=DATE:20241121
SUMMARY:Dámy vpřed!
DESCRIPTION:
LOCATION:Velké Meziříčí
END:VEVENT
END:VCALENDAR