BEGIN:VCALENDAR
VERSION:2.0
CALSCALE:GREGORIAN
PRODID:-//MyApp//Calendar 1.0//EN
BEGIN:VEVENT
METHOD:PUBLISH
UID:44032@regionalniportaly.cz
DTSTAMP:20260421T192653Z
DTSTART;VALUE=DATE:20240816
DTEND;VALUE=DATE:20240818
SUMMARY:Festival Bezmez
DESCRIPTION:
LOCATION:Velké Meziříčí
END:VEVENT
END:VCALENDAR