BEGIN:VCALENDAR
VERSION:2.0
CALSCALE:GREGORIAN
PRODID:-//MyApp//Calendar 1.0//EN
BEGIN:VEVENT
METHOD:PUBLISH
UID:44552@regionalniportaly.cz
DTSTAMP:20260421T192641Z
DTSTART;VALUE=DATE:20241014
DTEND;VALUE=DATE:20241015
SUMMARY:Kafe u Osmaniho
DESCRIPTION:
LOCATION:Velká Bíteš
END:VEVENT
END:VCALENDAR