BEGIN:VCALENDAR
VERSION:2.0
CALSCALE:GREGORIAN
PRODID:-//MyApp//Calendar 1.0//EN
BEGIN:VEVENT
METHOD:PUBLISH
UID:44553@regionalniportaly.cz
DTSTAMP:20260421T180840Z
DTSTART;VALUE=DATE:20241203
DTEND;VALUE=DATE:20241204
SUMMARY:Sirény na cestách
DESCRIPTION:
LOCATION:Velká Bíteš
END:VEVENT
END:VCALENDAR