BEGIN:VCALENDAR
VERSION:2.0
CALSCALE:GREGORIAN
PRODID:-//MyApp//Calendar 1.0//EN
BEGIN:VEVENT
METHOD:PUBLISH
UID:45704@regionalniportaly.cz
DTSTAMP:20260421T181727Z
DTSTART;VALUE=DATE:20241101
DTEND;VALUE=DATE:20241103
SUMMARY:Festival Radoslav II.
DESCRIPTION:Druhý ročník divadelního festivalu komedie v Kulturním domě Radostín nad Oslavou!Od pátku do neděle budete mít možnost zhlédnout čtyři divadelní představení a letos bude ochutnávka komediálních žánrů opravdu pestrá. Klasická komedie\, čirá improvizace\, svérázná pohádka a nakonec výjimečný stand-up podvečer.Odpojte už tradičně jednou za rok na chvíli mladistvým wifinu\, babičkám zazimujte motyčku a přijďte si všichni odpočinout od pracovního koloběhu!
LOCATION:Radostín nad Oslavou
END:VEVENT
END:VCALENDAR