BEGIN:VCALENDAR
VERSION:2.0
CALSCALE:GREGORIAN
PRODID:-//MyApp//Calendar 1.0//EN
BEGIN:VEVENT
METHOD:PUBLISH
UID:45880@regionalniportaly.cz
DTSTAMP:20260421T170652Z
DTSTART;VALUE=DATE:20240926
DTEND;VALUE=DATE:20240927
SUMMARY:Diskuzní setkání na téma vzdělávání osob s autismem
DESCRIPTION:Přednáška pro formální a neformální pečovatele\, kteří se věnují osobám s PAS v rámci projektu Podpora transformace se zohledněním problematiky osob s poruchami autistického spektra v Kraji Vysočina.\nRezervace zde: kalendar.kr-vysocina.cz/kalendar/detail/70572.
LOCATION:Velké Meziříčí
END:VEVENT
END:VCALENDAR