BEGIN:VCALENDAR
VERSION:2.0
CALSCALE:GREGORIAN
PRODID:-//MyApp//Calendar 1.0//EN
BEGIN:VEVENT
METHOD:PUBLISH
UID:46134@regionalniportaly.cz
DTSTAMP:20260421T180913Z
DTSTART;VALUE=DATE:20241112
DTEND;VALUE=DATE:20241113
SUMMARY:Koncert – Společná věc 2024
DESCRIPTION:Láska k pravdě – filosofie\, má mnoho podob může mít i podobu rezonance – tónů. Vždyť společná věc není jen slovo. Mystérium dávných filosofů přichází takto v koncertu nyní i k vám.\nNa koncertě Společná věc vás čeká velkoplošná projekce spojená s tóny tajemného Vodnářského zvonu. Výjimečný\, tajuplný\, harmonizující – i takové přívlastky si získal nástroj\, která má název Vodnářský zvon. Objevil ho a na koncertech Společná věc na něj hraje biotronik Tomáš Pfeiffer.\nKonání: Jupiter club\, 19.00 hod. 
LOCATION:Velké Meziříčí
END:VEVENT
END:VCALENDAR