BEGIN:VCALENDAR
VERSION:2.0
CALSCALE:GREGORIAN
PRODID:-//MyApp//Calendar 1.0//EN
BEGIN:VEVENT
METHOD:PUBLISH
UID:46135@regionalniportaly.cz
DTSTAMP:20260421T182611Z
DTSTART;VALUE=DATE:20240925
DTEND;VALUE=DATE:20240926
SUMMARY:Divadlo: Fantastická žena
DESCRIPTION:Zápletka komedie se točí kolem seznamu vlastností\, které by měla mít ideální partnerka. Jedná se o příběh dvou kamarádů\, jejichž životy pořádně zamíchá tajuplná seznamka a doslova fantastická ženam která se objeví v bytě..\nHrají: Diana Šoltýsová/Patricie Pagáčová\, Ondřej Volejník/Václav Krátký\, Jarmil Škvrna/Adrian Jastraban\n \nKonání: Jupiter club
LOCATION:Velké Meziříčí
END:VEVENT
END:VCALENDAR