BEGIN:VCALENDAR
VERSION:2.0
CALSCALE:GREGORIAN
PRODID:-//MyApp//Calendar 1.0//EN
BEGIN:VEVENT
METHOD:PUBLISH
UID:49878@regionalniportaly.cz
DTSTAMP:20260421T211913Z
DTSTART;VALUE=DATE:20250725
DTEND;VALUE=DATE:20250727
SUMMARY:Radostín Fest 2025
DESCRIPTION:Kultovní multižánrový hudební festival pod otevřeným nebem.Dvanáctý ročník.Vystoupí:Poletíme?Michal Horák s kapelouFredy a KrastyHrabě Monte CrazyMagua
LOCATION:Radostín nad Oslavou
END:VEVENT
END:VCALENDAR