BEGIN:VCALENDAR
VERSION:2.0
CALSCALE:GREGORIAN
PRODID:-//MyApp//Calendar 1.0//EN
BEGIN:VEVENT
METHOD:PUBLISH
UID:52177@regionalniportaly.cz
DTSTAMP:20260422T005056Z
DTSTART;VALUE=DATE:20250816
DTEND;VALUE=DATE:20250817
SUMMARY:MOTOFEST Cihelna
DESCRIPTION:MOTOFEST CIHELNA 1.ročníkVelká Bíteš (sběrný dvůr)\, 16.8.2025Zveme Vás na první ročník Motofestu Cihelna!&nbsp\;Léto\, mašiny\, skvělá hudba\, soutěže a nezapomenutelná atmosféra. To vše přinese první ročník Motofestu Cihelna\, který se uskuteční 16. srpna ve Velké Bíteši.Line-up:Zakázaný ovoceZávišIron Maiden MoraviaStartiRenovace rockEpidemyPřísun povolenCheckmate!
LOCATION:Velká Bíteš
END:VEVENT
END:VCALENDAR