BEGIN:VCALENDAR
VERSION:2.0
CALSCALE:GREGORIAN
PRODID:-//MyApp//Calendar 1.0//EN
BEGIN:VEVENT
METHOD:PUBLISH
UID:52609@regionalniportaly.cz
DTSTAMP:20260421T205921Z
DTSTART;VALUE=DATE:20250402
DTEND;VALUE=DATE:20250403
SUMMARY:Koncert: Four hands -  čtyřruční klavír
DESCRIPTION:
LOCATION:Velké Meziříčí
END:VEVENT
END:VCALENDAR