BEGIN:VCALENDAR
VERSION:2.0
CALSCALE:GREGORIAN
PRODID:-//MyApp//Calendar 1.0//EN
BEGIN:VEVENT
METHOD:PUBLISH
UID:52612@regionalniportaly.cz
DTSTAMP:20260421T193430Z
DTSTART;VALUE=DATE:20250412
DTEND;VALUE=DATE:20250413
SUMMARY:Koncert: POETIKA -  Slunce v barvách antracitu tour
DESCRIPTION:Po pěti letech se vydáváme na tour. Připravili jsme zcela novou show složenou nejen z hitů jako Půlnoc\, Duše\, Měsíc a Mám pocit\, že tě ztrácím\, ale doplnili jsem ji i o další písně z alba Slunce v barvách antracitu\, které vyjde na začátku roku 2025.Můžete se těšit na singly z nového alba\, hosty a především na křest samotné desky Slunce v barvách antracitu. 
LOCATION:Velké Meziříčí
END:VEVENT
END:VCALENDAR