BEGIN:VCALENDAR
VERSION:2.0
CALSCALE:GREGORIAN
PRODID:-//MyApp//Calendar 1.0//EN
BEGIN:VEVENT
METHOD:PUBLISH
UID:53433@regionalniportaly.cz
DTSTAMP:20260421T192621Z
DTSTART;VALUE=DATE:20250919
DTEND;VALUE=DATE:20250921
SUMMARY:Fitness víkend
DESCRIPTION:19.-21.9.2025\nNáš oblíbený fitness víkend se spoustou jógy\, cvičení\, dobrého jídla a procházek mezi rybníky je tady !\n \nPřidejte se k nám a užijte si parádní aktivní dovolenou.\n \nPROGRAM\nČeká vás 7 lekcí všeho druhu – ranní jóga\, večerní relaxace a během dne posilovací tabata nebo cvičení pro zdravá záda. Většinou se nám vždycky povede mít několik lekcí i na krásném travnatém paloučku za hotelem\, které mají parádní atmosféru. Moc doporučuji procházení okolí\, je to kraj rybníků\, lesů a pěkných tras na procházky.POZOR ! Na tomto víkendu na vás budeme rovnou 4\, Kajča a přidá se naše oblíbená Adélka na posilovací lekce a Pilates. Dále se zapojí Petr a Honza na ranní dobrovolné běžecké tréninky.\n \nUBYTOVÁNÍ A STRAVA ****\nUbytovaní budeme přímo v pivovaru – Balónový hotel v Radešíně. K dispozici nám bude restaurace\, kde si můžete dopřát několik druhů jejich vyhlášeného piva\, dobrou kávu\, zákusky\, víno nebo další pochutiny. \nV ceně je výborná plná penze od páteční večeře do nedělní snídani . Máme vlastní část restaurace\, kde je klid a prostor na naše aktivity.\nTento víkend doporučuji pro ty\, kteří mají pejska – hotel pejsky povoluje za mírný poplatek (super je i možnost procházek přímo od hotelu) i děti – vnitřní i venkovní hřiště pro děti.\n \nBONUSOVÝ PROGRAM\nV rámci pobytu mám několik překvapení jako je zážitkový program\, dárečky a mnohé další.\n \n* Na akci je omezený počet míst\, doporučuji o včasné přihlášení nebo vybrání na webu některý další fitness víkend\, který máme v nabídce.
LOCATION:Radešín
END:VEVENT
END:VCALENDAR