BEGIN:VCALENDAR
VERSION:2.0
CALSCALE:GREGORIAN
PRODID:-//MyApp//Calendar 1.0//EN
BEGIN:VEVENT
METHOD:PUBLISH
UID:56790@regionalniportaly.cz
DTSTAMP:20260421T192713Z
DTSTART;VALUE=DATE:20251017
DTEND;VALUE=DATE:20251018
SUMMARY:Ventolin / Hey Yendo & Rainer / Velké Meziříčí
DESCRIPTION:Ventolin&nbsp\;a jeho premiéra&nbsp\;na Pandě ve Velkém Meziříčí. Koncert proběhne 17. října 2025.
LOCATION:Velké Meziříčí
END:VEVENT
END:VCALENDAR