BEGIN:VCALENDAR
VERSION:2.0
CALSCALE:GREGORIAN
PRODID:-//MyApp//Calendar 1.0//EN
BEGIN:VEVENT
METHOD:PUBLISH
UID:59301@regionalniportaly.cz
DTSTAMP:20260421T121318Z
DTSTART;VALUE=DATE:20260425
DTEND;VALUE=DATE:20260426
SUMMARY:Muzikál Tlapkové patroly | Velké Meziříčí
DESCRIPTION:Oblíbení hrdinové z Tlapkové patroly se chystají na své jediné rodinné muzikálové turné v České republice\, které se už nikdy nebude opakovat!Populární psí záchranáři přinášejí show\, která nadchne malé i velké diváky.🐶Čeká vás&nbsp\;nezapomenutelný rodinný muzikál&nbsp\;plný&nbsp\;hudby\, tance a dobrodružství!Děti se mohou těšit na&nbsp\;Chase\, Marshalla\, Skye&nbsp\;i další statečné pejsky\, kteří předvedou&nbsp\;napínavý příběh&nbsp\;v doprovodu&nbsp\;pohádkové atmosféry&nbsp\;🌈Muzikál Tlapkové patroly&nbsp\;vykouzlí úsměv na tváři každému dítěti a nabídne jedinečnou možnost zažít jejich dobrodružství&nbsp\;naživo!&nbsp\;🎭🚨&nbsp\;POZOR!&nbsp\;🚨👉&nbsp\;JEDINÉ turné v ČR\, které se už&nbsp\;nikdy nebude opakovat!🕤&nbsp\;Otevření sálu:&nbsp\;od&nbsp\;16:30🎬&nbsp\;Představení:&nbsp\;17:00 - 18:00⏰&nbsp\;Konec programu:&nbsp\;přibližně v&nbsp\;18:30Nepropásněte tuto jedinečnou příležitost a zajistěte si své vstupenky včas! 🎟️🌟
LOCATION:Velké Meziříčí
END:VEVENT
END:VCALENDAR