BEGIN:VCALENDAR
VERSION:2.0
CALSCALE:GREGORIAN
PRODID:-//MyApp//Calendar 1.0//EN
BEGIN:VEVENT
METHOD:PUBLISH
UID:59631@regionalniportaly.cz
DTSTAMP:20260421T180900Z
DTSTART;VALUE=DATE:20251031
DTEND;VALUE=DATE:20251101
SUMMARY:Visací zámek + 3×15 let tour!
DESCRIPTION:Punk žije\, pivo teče a slušný chování zůstává doma.\nVisací zámek se vrací na Vysočinu a bere s sebou parťáky Bermudskej kvádr\, Banda a VPV – dohromady 3×15 let punku\, potu a parádních riffů!\nOčekávej:\n- legendární Visáče v plný síle\n- tři kapely\, který slaví poctivejch 15 let života\, koncertů i pařeb\n- atmosféru\, která by probudila i mrtvej amplion\n \nZavři se s náma do KD\, dej si pivo a ztrať hlas!
LOCATION:Vídeň
END:VEVENT
END:VCALENDAR