BEGIN:VCALENDAR
VERSION:2.0
CALSCALE:GREGORIAN
PRODID:-//MyApp//Calendar 1.0//EN
BEGIN:VEVENT
METHOD:PUBLISH
UID:62864@regionalniportaly.cz
DTSTAMP:20260421T192631Z
DTSTART;VALUE=DATE:20260221
DTEND;VALUE=DATE:20260222
SUMMARY:Maniak na Pandě
DESCRIPTION:_Maniak se po několika vrací do Velkého Meziříčí s bohatším hudebním katalogem a jednou z nejenergičtějších shows na scéně. Další jméno na line-upu je Milion + rider Koky\, který ve Velmezu bude mít svoji premiéru.\n  Line-up:Mani-Ak-47KokyKevin KahlRoboDiskotek
LOCATION:Velké Meziříčí
END:VEVENT
END:VCALENDAR