BEGIN:VCALENDAR
VERSION:2.0
CALSCALE:GREGORIAN
PRODID:-//MyApp//Calendar 1.0//EN
BEGIN:VEVENT
METHOD:PUBLISH
UID:64092@regionalniportaly.cz
DTSTAMP:20260422T004420Z
DTSTART;VALUE=DATE:20260523
DTEND;VALUE=DATE:20260524
SUMMARY:Poklady z půdy aneb Nultý ročník blešího trhu v Padochově
DESCRIPTION:DEJTE VĚCEM DRUHOU ŠANCI\nProdat můžete vše\, co již nepotřebujete\, ale druhému se může hodit. Koupit můžete cokoliv.\n \nKDE: Sokolovna Padochov\nKDY: 23. května 2026 od 9 do 13 hodin (prodejci od 7 hodin)\n \nVstupné: 20 Kč\nPoplatek za prodejní místo: 50 Kč\n \nSoučástí akce budou dílničky pro děti v duchu starých tradic.\nPřítomen bude i kovář naživo.\nObčerstvení zajištěno.\n \nPRO JEDNOHO ODPAD\, PRO DRUHÉHO POKLAD\n \n \n 
LOCATION:Oslavany
END:VEVENT
END:VCALENDAR