BEGIN:VCALENDAR
VERSION:2.0
CALSCALE:GREGORIAN
PRODID:-//MyApp//Calendar 1.0//EN
BEGIN:VEVENT
METHOD:PUBLISH
UID:64993@regionalniportaly.cz
DTSTAMP:20260422T020325Z
DTSTART;VALUE=DATE:20260425
DTEND;VALUE=DATE:20260426
SUMMARY:Oslavanská 50
DESCRIPTION:
LOCATION:Oslavany
END:VEVENT
END:VCALENDAR