BEGIN:VCALENDAR
VERSION:2.0
CALSCALE:GREGORIAN
PRODID:-//MyApp//Calendar 1.0//EN
BEGIN:VEVENT
METHOD:PUBLISH
UID:7370@regionalniportaly.cz
DTSTAMP:20260422T020848Z
DTSTART;VALUE=DATE:20160814
DTEND;VALUE=DATE:20160815
SUMMARY:Závěrečný galakoncert absolventů
DESCRIPTION:Překrásná kompozice árií a duetů. Zazní nádherné melodie Mozarta\, Belliniho\, Donizettiho\, Verdiho\, Bizeta a dalších velikánů světové operní tvorby v podání všech deseti talentovaných a krásných umělců z Kanady\, Maďarska\, Polska\, USA a Irska. Klavírní doprovod dirigent Slovenského Národního Divadla Branko Ladič.\nKulturní dům\, Vlkovská 482\, Velká Bíteš\, vstupné dobrovolné\nOrganizuje: Informační centrum a Klub kultury ve spolupráci s Jakubem Pustinou
LOCATION:Velká Bíteš
END:VEVENT
END:VCALENDAR