BEGIN:VCALENDAR
VERSION:2.0
CALSCALE:GREGORIAN
PRODID:-//MyApp//Calendar 1.0//EN
BEGIN:VEVENT
METHOD:PUBLISH
UID:8960@regionalniportaly.cz
DTSTAMP:20260422T020838Z
DTSTART;VALUE=DATE:20170218
DTEND;VALUE=DATE:20170219
SUMMARY:XXIII. Náměšťský ples
DESCRIPTION:XXIII. Náměšťský ples se uskuteční 18. 2. od 20 hodin v Sokolovně. Vystoupí účastníci Star Dance Anna K. a Marek Hrstka. Hraje Panorama Band.\nPředprodej vstupenek od 31. 1. na IC v Náměšti nad Oslavou.
LOCATION:Náměšť nad Oslavou
END:VEVENT
END:VCALENDAR