BEGIN:VCALENDAR
VERSION:2.0
CALSCALE:GREGORIAN
PRODID:-//MyApp//Calendar 1.0//EN
BEGIN:VEVENT
METHOD:PUBLISH
UID:9140@regionalniportaly.cz
DTSTAMP:20260422T003418Z
DTSTART;VALUE=DATE:20170218
DTEND;VALUE=DATE:20170219
SUMMARY:Sportovní ples
DESCRIPTION:Sportovní ples se koná v KD Velká Bíteš 18. 2. pod záštitou starosty města Ing. Milana Vlčka.\nModerují Marcela Doubková a Martin Hrdinka\, vítězi ankety zazpívají hvězdy muzikálu Pomáda.\nHraje Pražský taneční orchestr Jindřicha Váchy a hlavní host Standa Hložek. Po půlnoci Retro disco s Martinem Hrdinkou. V I. patře hraje cimbálová muzika Grajcar.\nPředprodej místenek na recepci U Raušů.
LOCATION:Velká Bíteš
END:VEVENT
END:VCALENDAR